Workbook

Sheet 대학정보
B3: 군 | C3: 가군 | E3: 진학사 정시 점수를 공개한 표본 분석용 엑셀입니다.
B4: 대학 이름 | C4: 중앙대 | E4: 대학/학과 이름은 진학사 정시 정보공개에 올라온 짧은 이름을 입력해주세요.
B5: 학과 이름 | C5: 창의ICT공과대학 | E5: 대학 이름과 학과 이름은 지망 파악을 위한 필수 입력(진한 바탕), 나머지(연한 바탕)는 선택 입력입니다.
B6: 모집 인원 | C6: 95 | E6: 선택 입력이지만, 예상 합격 등수 추정 등을 위해 빈칸에 전부 입력해주세요.
B7: 전체 지원 인원 | C7: 2496
B8: 합격 예상 컷 | C8: =660.55-1.1 -> 659.45 | E8: 진학사 등 합격 예측을 이용하셨다면, 예상 컷을 입력해주세요.
B9: 예상 범위 (%) | C9: =1108/2496*100 -> 44.391026 | E9: 실제 표본 중, 점수를 공개한 표본이 몇 %일지 추측하신 값을 기록해주세요.
E10: 최초합격 인원의 몇 %가 점수 공개를 했을지 추측 값입니다.
B11: 경쟁률 | C11: =IF(AND(C6<>0,C7<>0),C7/C6,0) -> 26.273684
B12: 정시 점수 공개 비율 (%) | C12: =IF(AND(C7<>0, C13<>0),C13/C7,0) -> 0.44391026
B13: 점수공개 표본 수 | C13: =COUNTIF(정렬된데이터!B:B,"*등*")-1 -> 1108 | E13: whdghks913@naver.com
E15: 1) 대학 이름과 학과 이름을 통해 각 표본의 대학 지망 순위를 파악합니다.
E16: 2) 모집인원과 전체 지원 인원, 예상 범위를 통해, 점공 표본 중 몇 등까지 합격할 것인지 예상합니다.
E17: 3) 등록 확률이 낮은 표본을 제외하고, 1등부터 n번째 등수까지 계산합니다.
E18: (단, n은 점수 공개 표본 중에서 합격 컷까지의 등수)
B51: http://itmir.tistory.com/646

Sheet 로우데이터
A1: 1등 | B1: 685.89 | C1: 합격자 발표 이후, 본인의 합불 여부를 등록하면 확인 가능 | D1: 서울대(1) | E1: 성균관대(2) | F1: 중앙대(3) | G1: -
B2: (685.89+0) | D2: 컴퓨터공학부 | E2: [수원]의예 | F2: [서울]창의ICT공과대학
D3: 394.4 | E3: 765.65 | F3: 685.89
D4: - | E4: - | F4: -
A5: 2등 | B5: 677.13 | D5: 경희대(2) | E5: 연세대(서울)(1) | F5: 중앙대(3) | G5: -
B6: (677.13+0) | D6: [서울]치의예 | E6: 치의예 | F6: [서울]창의ICT공과대학
D7: 572.9 | E7: 728.16 | F7: 677.13
D8: - | E8: - | F8: -
A9: 3등 | B9: 673.28 | D9: 서울대(1) | E9: 연세대(서울)(2) | F9: 중앙대(3) | G9: -
B10: (673.28+0) | D10: 천문 | E10: 천문우주 | F10: [서울]창의ICT공과대학
D11: 384.92 | E11: 724.61 | F11: 673.28
D12: - | E12: - | F12: -
A13: 4등 | B13: 672.17 | D13: 한양대(서울)(2) | E13: 연세대(서울)(1) | F13: 중앙대(3) | G13: -
B14: (672.17+0) | D14: 에너지공 | E14: 전기전자공학부 | F14: [서울]창의ICT공과대학
D15: 967.02 | E15: 719.16 | F15: 672.17
D16: - | E16: - | F16: -
A17: 5등 | B17: 671.9 | D17: 부산대(1) | E17: 고려대(서울)(2) | F17: 중앙대(3) | G17: -
B18: (671.9+0) | D18: [양산]치의예(학.석사통합과정) | E18: 전기전자공학부 | F18: [서울]창의ICT공과대학
D19: 723.06 | E19: 651.14 | F19: 671.9
D20: - | E20: - | F20: -
A21: 6등 | B21: 671.89 | D21: 서울대(1) | E21: 연세대(서울)(2) | F21: 중앙대(3) | G21: -
B22: (671.89+0) | D22: 재료공학부 | E22: 기계공학부 | F22: [서울]창의ICT공과대학
D23: 386 | E23: 723.65 | F23: 671.89
D24: - | E24: - | F24: -
A25: 7등 | B25: 671.87 | D25: 부산대(1) | E25: 고려대(서울)(2) | F25: 중앙대(3) | G25: -
B26: (671.87+0) | D26: [양산]치의예(학.석사통합과정) | E26: 전기전자공학부 | F26: [서울]창의ICT공과대학
D27: 722.97 | E27: 651.56 | F27: 671.87
D28: - | E28: - | F28: -
A29: 8등 | B29: 671.28 | D29: 건양대(2) | E29: 연세대(서울)(1) | F29: 중앙대(3) | G29: -
B30: (671.28+0) | D30: [대전]의학 | E30: 생명공 | F30: [서울]창의ICT공과대학
D31: 979.5 | E31: 718.24 | F31: 671.28
D32: - | E32: - | F32: -
A33: 9등 | B33: 671.17 | D33: 성균관대(2) | E33: 고려대(서울)(1) | F33: 중앙대(3) | G33: -
B34: (671.17+0) | D34: [수원]반도체시스템공 | E34: 컴퓨터/자연 | F34: [서울]창의ICT공과대학
D35: 749.18 | E35: 651.56 | F35: 671.17
D36: - | E36: - | F36: -
A37: 10등 | B37: 670.96 | D37: 성균관대(2) | E37: 연세대(서울)(1) | F37: 중앙대(3) | G37: -
B38: (670.96+0) | D38: [수원]글로벌바이오메디컬공 | E38: 전기전자공학부 | F38: [서울]창의ICT공과대학
D39: 750.96 | E39: 723.39 | F39: 670.96
D40: - | E40: - | F40: -
A41: 11등 | B41: 670.94 | D41: 한양대(서울)(2) | E41: 고려대(서울)(1) | F41: 중앙대(3) | G41: -
B42: (670.94+0) | D42: 미래자동차공 | E42: 화공생명공 | F42: [서울]창의ICT공과대학
D43: 963.87 | E43: 652.25 | F43: 670.94
D44: - | E44: - | F44: -
A45: 12등 | B45: 670.7 | D45: 성균관대(2) | E45: 연세대(서울)(1) | F45: 중앙대(3) | G45: -
B46: (670.7+0) | D46: [수원]반도체시스템공 | E46: 기계공학부 | F46: [서울]창의ICT공과대학
D47: 749.2 | E47: 718.06 | F47: 670.7
D48: - | E48: - | F48: -
A49: 13등 | B49: 670.69 | D49: 한양대(서울)(2) | E49: 고려대(서울)(1) | F49: 중앙대(3) | G49: -
B50: (670.69+0) | D50: 미래자동차공 | E50: 전기전자공학부 | F50: [서울]창의ICT공과대학
D51: 964.49 | E51: 650.06 | F51: 670.69
D52: - | E52: - | F52: -
A53: 14등 | B53: 670.65 | D53: 한양대(서울)(2) | E53: 고려대(서울)(1) | F53: 중앙대(3) | G53: -
B54: (670.65+0) | D54: 미래자동차공 | E54: 화공생명공 | F54: [서울]창의ICT공과대학
D55: 964.76 | E55: 649.58 | F55: 670.65
D56: - | E56: - | F56: -
A57: 15등 | B57: 670.58 | D57: 성균관대(2) | E57: 고려대(서울)(1) | F57: 중앙대(3) | G57: -
B58: (670.58+0) | D58: [수원]반도체시스템공 | E58: 화공생명공 | F58: [서울]창의ICT공과대학
D59: 746.87 | E59: 650.28 | F59: 670.58
D60: - | E60: - | F60: -
A61: 16등 | B61: 670.43 | D61: 서울대(1) | E61: 고려대(서울)(2) | F61: 중앙대(3) | G61: -
B62: (670.43+0) | D62: 우주항공공 | E62: 컴퓨터/자연 | F62: [서울]창의ICT공과대학
D63: 384.21 | E63: 651.17 | F63: 670.43
D64: - | E64: - | F64: -
A65: 17등 | B65: 670.42 | D65: 부산대(2) | E65: 연세대(서울)(1) | F65: 중앙대(3) | G65: -
B66: (670.42+0) | D66: [양산]치의예(학.석사통합과정) | E66: 기계공학부 | F66: [서울]창의ICT공과대학
D67: 721.72 | E67: 718.31 | F67: 670.42
D68: - | E68: - | F68: -
A69: 18등 | B69: 670.22 | D69: 서울대(1) | E69: 연세대(서울)(2) | F69: 중앙대(3) | G69: -
B70: (670.22+0) | D70: 재료공학부 | E70: 전기전자공학부 | F70: [서울]창의ICT공과대학
D71: 384.38 | E71: 721.96 | F71: 670.22
D72: - | E72: - | F72: -
A73: 19등 | B73: 670.21 | D73: 한양대(서울)(2) | E73: 연세대(서울)(1) | F73: 중앙대(3) | G73: -
B74: (670.21+0) | D74: 미래자동차공 | E74: 전기전자공학부 | F74: [서울]창의ICT공과대학
D75: 964.37 | E75: 722.69 | F75: 670.21
D76: - | E76: - | F76: -
A77: 20등 | B77: 670.2 | D77: 부산대(1) | E77: 고려대(서울)(2) | F77: 중앙대(3) | G77: -
B78: (670.2+0) | D78: [양산]치의예(학.석사통합과정) | E78: 전기전자공학부 | F78: [서울]창의ICT공과대학
D79: 721.25 | E79: 651.86 | F79: 670.2
D80: - | E80: - | F80: -
A81: 21등 | B81: 669.94 | D81: 서울대(1) | E81: 연세대(서울)(2) | F81: 중앙대(3) | G81: -
B82: (669.94+0) | D82: 건축 | E82: 컴퓨터과학 | F82: [서울]창의ICT공과대학
D83: 382.54 | E83: 722.34 | F83: 669.94
D84: - | E84: - | F84: -
A85: 22등 | B85: 669.92 | D85: 부산대(2) | E85: 고려대(서울)(1) | F85: 중앙대(3) | G85: -
B86: (669.92+0) | D86: [양산]치의예(학.석사통합과정) | E86: 산업경영공학부 | F86: [서울]창의ICT공과대학
D87: 721.88 | E87: 650 | F87: 669.92
D88: - | E88: - | F88: -
A89: 23등 | B89: 669.92 | D89: 서울대(1) | E89: 연세대(서울)(2) | F89: 중앙대(3) | G89: -
B90: (669.92+0) | D90: 우주항공공 | E90: 기계공학부 | F90: [서울]창의ICT공과대학
D91: 384.24 | E91: 722.93 | F91: 669.92
D92: - | E92: - | F92: -
A93: 24등 | B93: 669.91 | D93: 성균관대(2) | E93: 고려대(서울)(1) | F93: 중앙대(3) | G93: -
B94: (669.91+0) | D94: [수원]반도체시스템공 | E94: 전기전자공학부 | F94: [서울]창의ICT공과대학
D95: 748.41 | E95: 650.08 | F95: 669.91
D96: - | E96: - | F96: -
A97: 25등 | B97: 669.9 | D97: 서울대(1) | E97: 연세대(서울)(2) | F97: 중앙대(3) | G97: -
B98: (669.9+0) | D98: 조선해양공 | E98: 기계공학부 | F98: [서울]창의ICT공과대학
D99: 382.09 | E99: 722 | F99: 669.9
D100: - | E100: - | F100: -
...

Sheet 정렬된데이터
B1: 등수 | C1: 등록확률 | D1: 점수 | E1: 1지망 | G1: 2지망 | I1: 3지망 | L1: 1지망 | M1: 2지망 | N1: 3지망 | P1: 기본확률 | Q1: 차이
A2: =IF(ISNUMBER(FIND("(나)",B2)), "나", IF(B2<>"", "", "X")) | B2: =IF(INDEX(로우데이터!$A:$A,4*ROW()-7)<>"",INDEX(로우데이터!A:A,4*ROW()-7),"") -> 1등 | C2: =IF(B2<>"",VLOOKUP(CONCATENATE("j",L2, M2, N2),확률표!$B$8:$E$16,IF(P2=확률표!$C$3,2,IF(P2=확률표!$C$4, 3,4)),FALSE), "") -> 10 | D2: =IF(B2<>"",INDEX(로우데이터!$B:$B,4*ROW()-7),"") -> 685.89 | E2: =IF(B2<>"",IF(INDEX(로우데이터!$D:$D,4*ROW()-7)<>"",IF(ISNUMBER(FIND("(1)", INDEX(로우데이터!$D:$D,4*ROW()-7))), INDEX(로우데이터!$D:$D,4*ROW()-7), IF(ISNUMBER(FIND("(1)", INDEX(로우데이터!$E:$E,4*ROW()-7))), INDEX(로우데이터!$E:$E,4*ROW()-7), INDEX(로우데이터!$F:$F,4*ROW()-7))), ""), "") -> 서울대(1) | F2: =IF(B2<>"",IF(INDEX(로우데이터!$D:$D,4*ROW()-7)<>"",IF(ISNUMBER(FIND("(1)", INDEX(로우데이터!$D:$D,4*ROW()-7))), INDEX(로우데이터!$D:$D,4*ROW()-6), IF(ISNUMBER(FIND("(1)", INDEX(로우데이터!$E:$E,4*ROW()-7))), INDEX(로우데이터!$E:$E,4*ROW()-6), INDEX(로우데이터!$F:$F,4*ROW()-6))), ""), "") -> 컴퓨터공학부 | G2: =IF(B2<>"",IF(INDEX(로우데이터!$D:$D,4*ROW()-7)<>"",IF(ISNUMBER(FIND("(2)", INDEX(로우데이터!$D:$D,4*ROW()-7))), INDEX(로우데이터!$D:$D,4*ROW()-7), IF(ISNUMBER(FIND("(2)", INDEX(로우데이터!$E:$E,4*ROW()-7))), INDEX(로우데이터!$E:$E,4*ROW()-7), INDEX(로우데이터!$F:$F,4*ROW()-7))), ""), "") -> 성균관대(2) | H2: =IF(B2<>"",IF(INDEX(로우데이터!$D:$D,4*ROW()-7)<>"",IF(ISNUMBER(FIND("(2)", INDEX(로우데이터!$D:$D,4*ROW()-7))), INDEX(로우데이터!$D:$D,4*ROW()-6), IF(ISNUMBER(FIND("(2)", INDEX(로우데이터!$E:$E,4*ROW()-7))), INDEX(로우데이터!$E:$E,4*ROW()-6), INDEX(로우데이터!$F:$F,4*ROW()-6))), ""), "") -> [수원]의예 | I2: =IF(B2<>"",IF(INDEX(로우데이터!$D:$D,4*ROW()-7)<>"",IF(ISNUMBER(FIND("(3)", INDEX(로우데이터!$D:$D,4*ROW()-7))), INDEX(로우데이터!$D:$D,4*ROW()-7), IF(ISNUMBER(FIND("(3)", INDEX(로우데이터!$E:$E,4*ROW()-7))), INDEX(로우데이터!$E:$E,4*ROW()-7), INDEX(로우데이터!$F:$F,4*ROW()-7))), ""), "") -> 중앙대(3) | J2: =IF(B2<>"",IF(INDEX(로우데이터!$D:$D,4*ROW()-7)<>"",IF(ISNUMBER(FIND("(3)", INDEX(로우데이터!$D:$D,4*ROW()-7))), INDEX(로우데이터!$D:$D,4*ROW()-6), IF(ISNUMBER(FIND("(3)", INDEX(로우데이터!$E:$E,4*ROW()-7))), INDEX(로우데이터!$E:$E,4*ROW()-6), INDEX(로우데이터!$F:$F,4*ROW()-6))), ""), "") -> [서울]창의ICT공과대학 | L2: 1 | M2: 1 | N2: 0 | P2: =IF(B2<>"",IF(AND(대학정보!$C$4<>"",대학정보!$C$5<>""),IF(AND(ISNUMBER(FIND(대학정보!$C$4,E2)),ISNUMBER(FIND(대학정보!$C$5,F2))),확률표!$C$3,IF(AND(ISNUMBER(FIND(대학정보!$C$4,G2)),ISNUMBER(FIND(대학정보!$C$5,H2))),확률표!$C$4,IF(AND(ISNUMBER(FIND(대학정보!$C$4,I2)),ISNUMBER(FIND(대학정보!$C$5,J2))),확률표!$C$5, ""))), "대학정보"), "") -> 20 | Q2: =IF(AND(대학정보!$C$8<>"",D2<>""),D2-대학정보!$C$8,"") -> 26.44
A3: =IF(ISNUMBER(FIND("(나)",B3)), "나", IF(B3<>"", "", "X")) | B3: =IF(INDEX(로우데이터!$A:$A,4*ROW()-7)<>"",INDEX(로우데이터!A:A,4*ROW()-7),"") -> 2등 | C3: =IF(B3<>"",VLOOKUP(CONCATENATE("j",L3, M3, N3),확률표!$B$8:$E$16,IF(P3=확률표!$C$3,2,IF(P3=확률표!$C$4, 3,4)),FALSE), "") -> 10 | D3: =IF(B3<>"",INDEX(로우데이터!$B:$B,4*ROW()-7),"") -> 677.13 | E3: =IF(B3<>"",IF(INDEX(로우데이터!$D:$D,4*ROW()-7)<>"",IF(ISNUMBER(FIND("(1)", INDEX(로우데이터!$D:$D,4*ROW()-7))), INDEX(로우데이터!$D:$D,4*ROW()-7), IF(ISNUMBER(FIND("(1)", INDEX(로우데이터!$E:$E,4*ROW()-7))), INDEX(로우데이터!$E:$E,4*ROW()-7), INDEX(로우데이터!$F:$F,4*ROW()-7))), ""), "") -> 연세대(서울)(1) | F3: =IF(B3<>"",IF(INDEX(로우데이터!$D:$D,4*ROW()-7)<>"",IF(ISNUMBER(FIND("(1)", INDEX(로우데이터!$D:$D,4*ROW()-7))), INDEX(로우데이터!$D:$D,4*ROW()-6), IF(ISNUMBER(FIND("(1)", INDEX(로우데이터!$E:$E,4*ROW()-7))), INDEX(로우데이터!$E:$E,4*ROW()-6), INDEX(로우데이터!$F:$F,4*ROW()-6))), ""), "") -> 치의예 | G3: =IF(B3<>"",IF(INDEX(로우데이터!$D:$D,4*ROW()-7)<>"",IF(ISNUMBER(FIND("(2)", INDEX(로우데이터!$D:$D,4*ROW()-7))), INDEX(로우데이터!$D:$D,4*ROW()-7), IF(ISNUMBER(FIND("(2)", INDEX(로우데이터!$E:$E,4*ROW()-7))), INDEX(로우데이터!$E:$E,4*ROW()-7), INDEX(로우데이터!$F:$F,4*ROW()-7))), ""), "") -> 경희대(2) | H3: =IF(B3<>"",IF(INDEX(로우데이터!$D:$D,4*ROW()-7)<>"",IF(ISNUMBER(FIND("(2)", INDEX(로우데이터!$D:$D,4*ROW()-7))), INDEX(로우데이터!$D:$D,4*ROW()-6), IF(ISNUMBER(FIND("(2)", INDEX(로우데이터!$E:$E,4*ROW()-7))), INDEX(로우데이터!$E:$E,4*ROW()-6), INDEX(로우데이터!$F:$F,4*ROW()-6))), ""), "") -> [서울]치의예 | I3: =IF(B3<>"",IF(INDEX(로우데이터!$D:$D,4*ROW()-7)<>"",IF(ISNUMBER(FIND("(3)", INDEX(로우데이터!$D:$D,4*ROW()-7))), INDEX(로우데이터!$D:$D,4*ROW()-7), IF(ISNUMBER(FIND("(3)", INDEX(로우데이터!$E:$E,4*ROW()-7))), INDEX(로우데이터!$E:$E,4*ROW()-7), INDEX(로우데이터!$F:$F,4*ROW()-7))), ""), "") -> 중앙대(3) | J3: =IF(B3<>"",IF(INDEX(로우데이터!$D:$D,4*ROW()-7)<>"",IF(ISNUMBER(FIND("(3)", INDEX(로우데이터!$D:$D,4*ROW()-7))), INDEX(로우데이터!$D:$D,4*ROW()-6), IF(ISNUMBER(FIND("(3)", INDEX(로우데이터!$E:$E,4*ROW()-7))), INDEX(로우데이터!$E:$E,4*ROW()-6), INDEX(로우데이터!$F:$F,4*ROW()-6))), ""), "") -> [서울]창의ICT공과대학 | L3: 1 | M3: 1 | N3: 0 | P3: =IF(B3<>"",IF(AND(대학정보!$C$4<>"",대학정보!$C$5<>""),IF(AND(ISNUMBER(FIND(대학정보!$C$4,E3)),ISNUMBER(FIND(대학정보!$C$5,F3))),확률표!$C$3,IF(AND(ISNUMBER(FIND(대학정보!$C$4,G3)),ISNUMBER(FIND(대학정보!$C$5,H3))),확률표!$C$4,IF(AND(ISNUMBER(FIND(대학정보!$C$4,I3)),ISNUMBER(FIND(대학정보!$C$5,J3))),확률표!$C$5, ""))), "대학정보"), "") -> 20 | Q3: =IF(AND(대학정보!$C$8<>"",D3<>""),D3-대학정보!$C$8,"") -> 17.68
A4: =IF(ISNUMBER(FIND("(나)",B4)), "나", IF(B4<>"", "", "X")) | B4: =IF(INDEX(로우데이터!$A:$A,4*ROW()-7)<>"",INDEX(로우데이터!A:A,4*ROW()-7),"") -> 3등 | C4: =IF(B4<>"",VLOOKUP(CONCATENATE("j",L4, M4, N4),확률표!$B$8:$E$16,IF(P4=확률표!$C$3,2,IF(P4=확률표!$C$4, 3,4)),FALSE), "") -> 10 | D4: =IF(B4<>"",INDEX(로우데이터!$B:$B,4*ROW()-7),"") -> 673.28 | E4: =IF(B4<>"",IF(INDEX(로우데이터!$D:$D,4*ROW()-7)<>"",IF(ISNUMBER(FIND("(1)", INDEX(로우데이터!$D:$D,4*ROW()-7))), INDEX(로우데이터!$D:$D,4*ROW()-7), IF(ISNUMBER(FIND("(1)", INDEX(로우데이터!$E:$E,4*ROW()-7))), INDEX(로우데이터!$E:$E,4*ROW()-7), INDEX(로우데이터!$F:$F,4*ROW()-7))), ""), "") -> 서울대(1) | F4: =IF(B4<>"",IF(INDEX(로우데이터!$D:$D,4*ROW()-7)<>"",IF(ISNUMBER(FIND("(1)", INDEX(로우데이터!$D:$D,4*ROW()-7))), INDEX(로우데이터!$D:$D,4*ROW()-6), IF(ISNUMBER(FIND("(1)", INDEX(로우데이터!$E:$E,4*ROW()-7))), INDEX(로우데이터!$E:$E,4*ROW()-6), INDEX(로우데이터!$F:$F,4*ROW()-6))), ""), "") -> 천문 | G4: =IF(B4<>"",IF(INDEX(로우데이터!$D:$D,4*ROW()-7)<>"",IF(ISNUMBER(FIND("(2)", INDEX(로우데이터!$D:$D,4*ROW()-7))), INDEX(로우데이터!$D:$D,4*ROW()-7), IF(ISNUMBER(FIND("(2)", INDEX(로우데이터!$E:$E,4*ROW()-7))), INDEX(로우데이터!$E:$E,4*ROW()-7), INDEX(로우데이터!$F:$F,4*ROW()-7))), ""), "") -> 연세대(서울)(2) | H4: =IF(B4<>"",IF(INDEX(로우데이터!$D:$D,4*ROW()-7)<>"",IF(ISNUMBER(FIND("(2)", INDEX(로우데이터!$D:$D,4*ROW()-7))), INDEX(로우데이터!$D:$D,4*ROW()-6), IF(ISNUMBER(FIND("(2)", INDEX(로우데이터!$E:$E,4*ROW()-7))), INDEX(로우데이터!$E:$E,4*ROW()-6), INDEX(로우데이터!$F:$F,4*ROW()-6))), ""), "") -> 천문우주 | I4: =IF(B4<>"",IF(INDEX(로우데이터!$D:$D,4*ROW()-7)<>"",IF(ISNUMBER(FIND("(3)", INDEX(로우데이터!$D:$D,4*ROW()-7))), INDEX(로우데이터!$D:$D,4*ROW()-7), IF(ISNUMBER(FIND("(3)", INDEX(로우데이터!$E:$E,4*ROW()-7))), INDEX(로우데이터!$E:$E,4*ROW()-7), INDEX(로우데이터!$F:$F,4*ROW()-7))), ""), "") -> 중앙대(3) | J4: =IF(B4<>"",IF(INDEX(로우데이터!$D:$D,4*ROW()-7)<>"",IF(ISNUMBER(FIND("(3)", INDEX(로우데이터!$D:$D,4*ROW()-7))), INDEX(로우데이터!$D:$D,4*ROW()-6), IF(ISNUMBER(FIND("(3)", INDEX(로우데이터!$E:$E,4*ROW()-7))), INDEX(로우데이터!$E:$E,4*ROW()-6), INDEX(로우데이터!$F:$F,4*ROW()-6))), ""), "") -> [서울]창의ICT공과대학 | L4: 1 | M4: 1 | N4: 0 | P4: =IF(B4<>"",IF(AND(대학정보!$C$4<>"",대학정보!$C$5<>""),IF(AND(ISNUMBER(FIND(대학정보!$C$4,E4)),ISNUMBER(FIND(대학정보!$C$5,F4))),확률표!$C$3,IF(AND(ISNUMBER(FIND(대학정보!$C$4,G4)),ISNUMBER(FIND(대학정보!$C$5,H4))),확률표!$C$4,IF(AND(ISNUMBER(FIND(대학정보!$C$4,I4)),ISNUMBER(FIND(대학정보!$C$5,J4))),확률표!$C$5, ""))), "대학정보"), "") -> 20 | Q4: =IF(AND(대학정보!$C$8<>"",D4<>""),D4-대학정보!$C$8,"") -> 13.83
A5: =IF(ISNUMBER(FIND("(나)",B5)), "나", IF(B5<>"", "", "X")) | B5: =IF(INDEX(로우데이터!$A:$A,4*ROW()-7)<>"",INDEX(로우데이터!A:A,4*ROW()-7),"") -> 4등 | C5: =IF(B5<>"",VLOOKUP(CONCATENATE("j",L5, M5, N5),확률표!$B$8:$E$16,IF(P5=확률표!$C$3,2,IF(P5=확률표!$C$4, 3,4)),FALSE), "") -> 10 | D5: =IF(B5<>"",INDEX(로우데이터!$B:$B,4*ROW()-7),"") -> 672.17 | E5: =IF(B5<>"",IF(INDEX(로우데이터!$D:$D,4*ROW()-7)<>"",IF(ISNUMBER(FIND("(1)", INDEX(로우데이터!$D:$D,4*ROW()-7))), INDEX(로우데이터!$D:$D,4*ROW()-7), IF(ISNUMBER(FIND("(1)", INDEX(로우데이터!$E:$E,4*ROW()-7))), INDEX(로우데이터!$E:$E,4*ROW()-7), INDEX(로우데이터!$F:$F,4*ROW()-7))), ""), "") -> 연세대(서울)(1) | F5: =IF(B5<>"",IF(INDEX(로우데이터!$D:$D,4*ROW()-7)<>"",IF(ISNUMBER(FIND("(1)", INDEX(로우데이터!$D:$D,4*ROW()-7))), INDEX(로우데이터!$D:$D,4*ROW()-6), IF(ISNUMBER(FIND("(1)", INDEX(로우데이터!$E:$E,4*ROW()-7))), INDEX(로우데이터!$E:$E,4*ROW()-6), INDEX(로우데이터!$F:$F,4*ROW()-6))), ""), "") -> 전기전자공학부 | G5: =IF(B5<>"",IF(INDEX(로우데이터!$D:$D,4*ROW()-7)<>"",IF(ISNUMBER(FIND("(2)", INDEX(로우데이터!$D:$D,4*ROW()-7))), INDEX(로우데이터!$D:$D,4*ROW()-7), IF(ISNUMBER(FIND("(2)", INDEX(로우데이터!$E:$E,4*ROW()-7))), INDEX(로우데이터!$E:$E,4*ROW()-7), INDEX(로우데이터!$F:$F,4*ROW()-7))), ""), "") -> 한양대(서울)(2) | H5: =IF(B5<>"",IF(INDEX(로우데이터!$D:$D,4*ROW()-7)<>"",IF(ISNUMBER(FIND("(2)", INDEX(로우데이터!$D:$D,4*ROW()-7))), INDEX(로우데이터!$D:$D,4*ROW()-6), IF(ISNUMBER(FIND("(2)", INDEX(로우데이터!$E:$E,4*ROW()-7))), INDEX(로우데이터!$E:$E,4*ROW()-6), INDEX(로우데이터!$F:$F,4*ROW()-6))), ""), "") -> 에너지공 | I5: =IF(B5<>"",IF(INDEX(로우데이터!$D:$D,4*ROW()-7)<>"",IF(ISNUMBER(FIND("(3)", INDEX(로우데이터!$D:$D,4*ROW()-7))), INDEX(로우데이터!$D:$D,4*ROW()-7), IF(ISNUMBER(FIND("(3)", INDEX(로우데이터!$E:$E,4*ROW()-7))), INDEX(로우데이터!$E:$E,4*ROW()-7), INDEX(로우데이터!$F:$F,4*ROW()-7))), ""), "") -> 중앙대(3) | J5: =IF(B5<>"",IF(INDEX(로우데이터!$D:$D,4*ROW()-7)<>"",IF(ISNUMBER(FIND("(3)", INDEX(로우데이터!$D:$D,4*ROW()-7))), INDEX(로우데이터!$D:$D,4*ROW()-6), IF(ISNUMBER(FIND("(3)", INDEX(로우데이터!$E:$E,4*ROW()-7))), INDEX(로우데이터!$E:$E,4*ROW()-6), INDEX(로우데이터!$F:$F,4*ROW()-6))), ""), "") -> [서울]창의ICT공과대학 | L5: 1 | M5: 1 | N5: 0 | P5: =IF(B5<>"",IF(AND(대학정보!$C$4<>"",대학정보!$C$5<>""),IF(AND(ISNUMBER(FIND(대학정보!$C$4,E5)),ISNUMBER(FIND(대학정보!$C$5,F5))),확률표!$C$3,IF(AND(ISNUMBER(FIND(대학정보!$C$4,G5)),ISNUMBER(FIND(대학정보!$C$5,H5))),확률표!$C$4,IF(AND(ISNUMBER(FIND(대학정보!$C$4,I5)),ISNUMBER(FIND(대학정보!$C$5,J5))),확률표!$C$5, ""))), "대학정보"), "") -> 20 | Q5: =IF(AND(대학정보!$C$8<>"",D5<>""),D5-대학정보!$C$8,"") -> 12.72
A6: =IF(ISNUMBER(FIND("(나)",B6)), "나", IF(B6<>"", "", "X")) | B6: =IF(INDEX(로우데이터!$A:$A,4*ROW()-7)<>"",INDEX(로우데이터!A:A,4*ROW()-7),"") -> 5등 | C6: =IF(B6<>"",VLOOKUP(CONCATENATE("j",L6, M6, N6),확률표!$B$8:$E$16,IF(P6=확률표!$C$3,2,IF(P6=확률표!$C$4, 3,4)),FALSE), "") -> 10 | D6: =IF(B6<>"",INDEX(로우데이터!$B:$B,4*ROW()-7),"") -> 671.9 | E6: =IF(B6<>"",IF(INDEX(로우데이터!$D:$D,4*ROW()-7)<>"",IF(ISNUMBER(FIND("(1)", INDEX(로우데이터!$D:$D,4*ROW()-7))), INDEX(로우데이터!$D:$D,4*ROW()-7), IF(ISNUMBER(FIND("(1)", INDEX(로우데이터!$E:$E,4*ROW()-7))), INDEX(로우데이터!$E:$E,4*ROW()-7), INDEX(로우데이터!$F:$F,4*ROW()-7))), ""), "") -> 부산대(1) | F6: =IF(B6<>"",IF(INDEX(로우데이터!$D:$D,4*ROW()-7)<>"",IF(ISNUMBER(FIND("(1)", INDEX(로우데이터!$D:$D,4*ROW()-7))), INDEX(로우데이터!$D:$D,4*ROW()-6), IF(ISNUMBER(FIND("(1)", INDEX(로우데이터!$E:$E,4*ROW()-7))), INDEX(로우데이터!$E:$E,4*ROW()-6), INDEX(로우데이터!$F:$F,4*ROW()-6))), ""), "") -> [양산]치의예(학.석사통합과정) | G6: =IF(B6<>"",IF(INDEX(로우데이터!$D:$D,4*ROW()-7)<>"",IF(ISNUMBER(FIND("(2)", INDEX(로우데이터!$D:$D,4*ROW()-7))), INDEX(로우데이터!$D:$D,4*ROW()-7), IF(ISNUMBER(FIND("(2)", INDEX(로우데이터!$E:$E,4*ROW()-7))), INDEX(로우데이터!$E:$E,4*ROW()-7), INDEX(로우데이터!$F:$F,4*ROW()-7))), ""), "") -> 고려대(서울)(2) | H6: =IF(B6<>"",IF(INDEX(로우데이터!$D:$D,4*ROW()-7)<>"",IF(ISNUMBER(FIND("(2)", INDEX(로우데이터!$D:$D,4*ROW()-7))), INDEX(로우데이터!$D:$D,4*ROW()-6), IF(ISNUMBER(FIND("(2)", INDEX(로우데이터!$E:$E,4*ROW()-7))), INDEX(로우데이터!$E:$E,4*ROW()-6), INDEX(로우데이터!$F:$F,4*ROW()-6))), ""), "") -> 전기전자공학부 | I6: =IF(B6<>"",IF(INDEX(로우데이터!$D:$D,4*ROW()-7)<>"",IF(ISNUMBER(FIND("(3)", INDEX(로우데이터!$D:$D,4*ROW()-7))), INDEX(로우데이터!$D:$D,4*ROW()-7), IF(ISNUMBER(FIND("(3)", INDEX(로우데이터!$E:$E,4*ROW()-7))), INDEX(로우데이터!$E:$E,4*ROW()-7), INDEX(로우데이터!$F:$F,4*ROW()-7))), ""), "") -> 중앙대(3) | J6: =IF(B6<>"",IF(INDEX(로우데이터!$D:$D,4*ROW()-7)<>"",IF(ISNUMBER(FIND("(3)", INDEX(로우데이터!$D:$D,4*ROW()-7))), INDEX(로우데이터!$D:$D,4*ROW()-6), IF(ISNUMBER(FIND("(3)", INDEX(로우데이터!$E:$E,4*ROW()-7))), INDEX(로우데이터!$E:$E,4*ROW()-6), INDEX(로우데이터!$F:$F,4*ROW()-6))), ""), "") -> [서울]창의ICT공과대학 | L6: 1 | M6: 1 | N6: 0 | P6: =IF(B6<>"",IF(AND(대학정보!$C$4<>"",대학정보!$C$5<>""),IF(AND(ISNUMBER(FIND(대학정보!$C$4,E6)),ISNUMBER(FIND(대학정보!$C$5,F6))),확률표!$C$3,IF(AND(ISNUMBER(FIND(대학정보!$C$4,G6)),ISNUMBER(FIND(대학정보!$C$5,H6))),확률표!$C$4,IF(AND(ISNUMBER(FIND(대학정보!$C$4,I6)),ISNUMBER(FIND(대학정보!$C$5,J6))),확률표!$C$5, ""))), "대학정보"), "") -> 20 | Q6: =IF(AND(대학정보!$C$8<>"",D6<>""),D6-대학정보!$C$8,"") -> 12.45
A7: =IF(ISNUMBER(FIND("(나)",B7)), "나", IF(B7<>"", "", "X")) | B7: =IF(INDEX(로우데이터!$A:$A,4*ROW()-7)<>"",INDEX(로우데이터!A:A,4*ROW()-7),"") -> 6등 | C7: =IF(B7<>"",VLOOKUP(CONCATENATE("j",L7, M7, N7),확률표!$B$8:$E$16,IF(P7=확률표!$C$3,2,IF(P7=확률표!$C$4, 3,4)),FALSE), "") -> 10 | D7: =IF(B7<>"",INDEX(로우데이터!$B:$B,4*ROW()-7),"") -> 671.89 | E7: =IF(B7<>"",IF(INDEX(로우데이터!$D:$D,4*ROW()-7)<>"",IF(ISNUMBER(FIND("(1)", INDEX(로우데이터!$D:$D,4*ROW()-7))), INDEX(로우데이터!$D:$D,4*ROW()-7), IF(ISNUMBER(FIND("(1)", INDEX(로우데이터!$E:$E,4*ROW()-7))), INDEX(로우데이터!$E:$E,4*ROW()-7), INDEX(로우데이터!$F:$F,4*ROW()-7))), ""), "") -> 서울대(1) | F7: =IF(B7<>"",IF(INDEX(로우데이터!$D:$D,4*ROW()-7)<>"",IF(ISNUMBER(FIND("(1)", INDEX(로우데이터!$D:$D,4*ROW()-7))), INDEX(로우데이터!$D:$D,4*ROW()-6), IF(ISNUMBER(FIND("(1)", INDEX(로우데이터!$E:$E,4*ROW()-7))), INDEX(로우데이터!$E:$E,4*ROW()-6), INDEX(로우데이터!$F:$F,4*ROW()-6))), ""), "") -> 재료공학부 | G7: =IF(B7<>"",IF(INDEX(로우데이터!$D:$D,4*ROW()-7)<>"",IF(ISNUMBER(FIND("(2)", INDEX(로우데이터!$D:$D,4*ROW()-7))), INDEX(로우데이터!$D:$D,4*ROW()-7), IF(ISNUMBER(FIND("(2)", INDEX(로우데이터!$E:$E,4*ROW()-7))), INDEX(로우데이터!$E:$E,4*ROW()-7), INDEX(로우데이터!$F:$F,4*ROW()-7))), ""), "") -> 연세대(서울)(2) | H7: =IF(B7<>"",IF(INDEX(로우데이터!$D:$D,4*ROW()-7)<>"",IF(ISNUMBER(FIND("(2)", INDEX(로우데이터!$D:$D,4*ROW()-7))), INDEX(로우데이터!$D:$D,4*ROW()-6), IF(ISNUMBER(FIND("(2)", INDEX(로우데이터!$E:$E,4*ROW()-7))), INDEX(로우데이터!$E:$E,4*ROW()-6), INDEX(로우데이터!$F:$F,4*ROW()-6))), ""), "") -> 기계공학부 | I7: =IF(B7<>"",IF(INDEX(로우데이터!$D:$D,4*ROW()-7)<>"",IF(ISNUMBER(FIND("(3)", INDEX(로우데이터!$D:$D,4*ROW()-7))), INDEX(로우데이터!$D:$D,4*ROW()-7), IF(ISNUMBER(FIND("(3)", INDEX(로우데이터!$E:$E,4*ROW()-7))), INDEX(로우데이터!$E:$E,4*ROW()-7), INDEX(로우데이터!$F:$F,4*ROW()-7))), ""), "") -> 중앙대(3) | J7: =IF(B7<>"",IF(INDEX(로우데이터!$D:$D,4*ROW()-7)<>"",IF(ISNUMBER(FIND("(3)", INDEX(로우데이터!$D:$D,4*ROW()-7))), INDEX(로우데이터!$D:$D,4*ROW()-6), IF(ISNUMBER(FIND("(3)", INDEX(로우데이터!$E:$E,4*ROW()-7))), INDEX(로우데이터!$E:$E,4*ROW()-6), INDEX(로우데이터!$F:$F,4*ROW()-6))), ""), "") -> [서울]창의ICT공과대학 | L7: 1 | M7: 1 | N7: 0 | P7: =IF(B7<>"",IF(AND(대학정보!$C$4<>"",대학정보!$C$5<>""),IF(AND(ISNUMBER(FIND(대학정보!$C$4,E7)),ISNUMBER(FIND(대학정보!$C$5,F7))),확률표!$C$3,IF(AND(ISNUMBER(FIND(대학정보!$C$4,G7)),ISNUMBER(FIND(대학정보!$C$5,H7))),확률표!$C$4,IF(AND(ISNUMBER(FIND(대학정보!$C$4,I7)),ISNUMBER(FIND(대학정보!$C$5,J7))),확률표!$C$5, ""))), "대학정보"), "") -> 20 | Q7: =IF(AND(대학정보!$C$8<>"",D7<>""),D7-대학정보!$C$8,"") -> 12.44
A8: =IF(ISNUMBER(FIND("(나)",B8)), "나", IF(B8<>"", "", "X")) | B8: =IF(INDEX(로우데이터!$A:$A,4*ROW()-7)<>"",INDEX(로우데이터!A:A,4*ROW()-7),"") -> 7등 | C8: =IF(B8<>"",VLOOKUP(CONCATENATE("j",L8, M8, N8),확률표!$B$8:$E$16,IF(P8=확률표!$C$3,2,IF(P8=확률표!$C$4, 3,4)),FALSE), "") -> 10 | D8: =IF(B8<>"",INDEX(로우데이터!$B:$B,4*ROW()-7),"") -> 671.87 | E8: =IF(B8<>"",IF(INDEX(로우데이터!$D:$D,4*ROW()-7)<>"",IF(ISNUMBER(FIND("(1)", INDEX(로우데이터!$D:$D,4*ROW()-7))), INDEX(로우데이터!$D:$D,4*ROW()-7), IF(ISNUMBER(FIND("(1)", INDEX(로우데이터!$E:$E,4*ROW()-7))), INDEX(로우데이터!$E:$E,4*ROW()-7), INDEX(로우데이터!$F:$F,4*ROW()-7))), ""), "") -> 부산대(1) | F8: =IF(B8<>"",IF(INDEX(로우데이터!$D:$D,4*ROW()-7)<>"",IF(ISNUMBER(FIND("(1)", INDEX(로우데이터!$D:$D,4*ROW()-7))), INDEX(로우데이터!$D:$D,4*ROW()-6), IF(ISNUMBER(FIND("(1)", INDEX(로우데이터!$E:$E,4*ROW()-7))), INDEX(로우데이터!$E:$E,4*ROW()-6), INDEX(로우데이터!$F:$F,4*ROW()-6))), ""), "") -> [양산]치의예(학.석사통합과정) | G8: =IF(B8<>"",IF(INDEX(로우데이터!$D:$D,4*ROW()-7)<>"",IF(ISNUMBER(FIND("(2)", INDEX(로우데이터!$D:$D,4*ROW()-7))), INDEX(로우데이터!$D:$D,4*ROW()-7), IF(ISNUMBER(FIND("(2)", INDEX(로우데이터!$E:$E,4*ROW()-7))), INDEX(로우데이터!$E:$E,4*ROW()-7), INDEX(로우데이터!$F:$F,4*ROW()-7))), ""), "") -> 고려대(서울)(2) | H8: =IF(B8<>"",IF(INDEX(로우데이터!$D:$D,4*ROW()-7)<>"",IF(ISNUMBER(FIND("(2)", INDEX(로우데이터!$D:$D,4*ROW()-7))), INDEX(로우데이터!$D:$D,4*ROW()-6), IF(ISNUMBER(FIND("(2)", INDEX(로우데이터!$E:$E,4*ROW()-7))), INDEX(로우데이터!$E:$E,4*ROW()-6), INDEX(로우데이터!$F:$F,4*ROW()-6))), ""), "") -> 전기전자공학부 | I8: =IF(B8<>"",IF(INDEX(로우데이터!$D:$D,4*ROW()-7)<>"",IF(ISNUMBER(FIND("(3)", INDEX(로우데이터!$D:$D,4*ROW()-7))), INDEX(로우데이터!$D:$D,4*ROW()-7), IF(ISNUMBER(FIND("(3)", INDEX(로우데이터!$E:$E,4*ROW()-7))), INDEX(로우데이터!$E:$E,4*ROW()-7), INDEX(로우데이터!$F:$F,4*ROW()-7))), ""), "") -> 중앙대(3) | J8: =IF(B8<>"",IF(INDEX(로우데이터!$D:$D,4*ROW()-7)<>"",IF(ISNUMBER(FIND("(3)", INDEX(로우데이터!$D:$D,4*ROW()-7))), INDEX(로우데이터!$D:$D,4*ROW()-6), IF(ISNUMBER(FIND("(3)", INDEX(로우데이터!$E:$E,4*ROW()-7))), INDEX(로우데이터!$E:$E,4*ROW()-6), INDEX(로우데이터!$F:$F,4*ROW()-6))), ""), "") -> [서울]창의ICT공과대학 | L8: 1 | M8: 1 | N8: 0 | P8: =IF(B8<>"",IF(AND(대학정보!$C$4<>"",대학정보!$C$5<>""),IF(AND(ISNUMBER(FIND(대학정보!$C$4,E8)),ISNUMBER(FIND(대학정보!$C$5,F8))),확률표!$C$3,IF(AND(ISNUMBER(FIND(대학정보!$C$4,G8)),ISNUMBER(FIND(대학정보!$C$5,H8))),확률표!$C$4,IF(AND(ISNUMBER(FIND(대학정보!$C$4,I8)),ISNUMBER(FIND(대학정보!$C$5,J8))),확률표!$C$5, ""))), "대학정보"), "") -> 20 | Q8: =IF(AND(대학정보!$C$8<>"",D8<>""),D8-대학정보!$C$8,"") -> 12.42
A9: =IF(ISNUMBER(FIND("(나)",B9)), "나", IF(B9<>"", "", "X")) | B9: =IF(INDEX(로우데이터!$A:$A,4*ROW()-7)<>"",INDEX(로우데이터!A:A,4*ROW()-7),"") -> 8등 | C9: =IF(B9<>"",VLOOKUP(CONCATENATE("j",L9, M9, N9),확률표!$B$8:$E$16,IF(P9=확률표!$C$3,2,IF(P9=확률표!$C$4, 3,4)),FALSE), "") -> 10 | D9: =IF(B9<>"",INDEX(로우데이터!$B:$B,4*ROW()-7),"") -> 671.28 | E9: =IF(B9<>"",IF(INDEX(로우데이터!$D:$D,4*ROW()-7)<>"",IF(ISNUMBER(FIND("(1)", INDEX(로우데이터!$D:$D,4*ROW()-7))), INDEX(로우데이터!$D:$D,4*ROW()-7), IF(ISNUMBER(FIND("(1)", INDEX(로우데이터!$E:$E,4*ROW()-7))), INDEX(로우데이터!$E:$E,4*ROW()-7), INDEX(로우데이터!$F:$F,4*ROW()-7))), ""), "") -> 연세대(서울)(1) | F9: =IF(B9<>"",IF(INDEX(로우데이터!$D:$D,4*ROW()-7)<>"",IF(ISNUMBER(FIND("(1)", INDEX(로우데이터!$D:$D,4*ROW()-7))), INDEX(로우데이터!$D:$D,4*ROW()-6), IF(ISNUMBER(FIND("(1)", INDEX(로우데이터!$E:$E,4*ROW()-7))), INDEX(로우데이터!$E:$E,4*ROW()-6), INDEX(로우데이터!$F:$F,4*ROW()-6))), ""), "") -> 생명공 | G9: =IF(B9<>"",IF(INDEX(로우데이터!$D:$D,4*ROW()-7)<>"",IF(ISNUMBER(FIND("(2)", INDEX(로우데이터!$D:$D,4*ROW()-7))), INDEX(로우데이터!$D:$D,4*ROW()-7), IF(ISNUMBER(FIND("(2)", INDEX(로우데이터!$E:$E,4*ROW()-7))), INDEX(로우데이터!$E:$E,4*ROW()-7), INDEX(로우데이터!$F:$F,4*ROW()-7))), ""), "") -> 건양대(2) | H9: =IF(B9<>"",IF(INDEX(로우데이터!$D:$D,4*ROW()-7)<>"",IF(ISNUMBER(FIND("(2)", INDEX(로우데이터!$D:$D,4*ROW()-7))), INDEX(로우데이터!$D:$D,4*ROW()-6), IF(ISNUMBER(FIND("(2)", INDEX(로우데이터!$E:$E,4*ROW()-7))), INDEX(로우데이터!$E:$E,4*ROW()-6), INDEX(로우데이터!$F:$F,4*ROW()-6))), ""), "") -> [대전]의학 | I9: =IF(B9<>"",IF(INDEX(로우데이터!$D:$D,4*ROW()-7)<>"",IF(ISNUMBER(FIND("(3)", INDEX(로우데이터!$D:$D,4*ROW()-7))), INDEX(로우데이터!$D:$D,4*ROW()-7), IF(ISNUMBER(FIND("(3)", INDEX(로우데이터!$E:$E,4*ROW()-7))), INDEX(로우데이터!$E:$E,4*ROW()-7), INDEX(로우데이터!$F:$F,4*ROW()-7))), ""), "") -> 중앙대(3) | J9: =IF(B9<>"",IF(INDEX(로우데이터!$D:$D,4*ROW()-7)<>"",IF(ISNUMBER(FIND("(3)", INDEX(로우데이터!$D:$D,4*ROW()-7))), INDEX(로우데이터!$D:$D,4*ROW()-6), IF(ISNUMBER(FIND("(3)", INDEX(로우데이터!$E:$E,4*ROW()-7))), INDEX(로우데이터!$E:$E,4*ROW()-6), INDEX(로우데이터!$F:$F,4*ROW()-6))), ""), "") -> [서울]창의ICT공과대학 | L9: 1 | M9: 1 | N9: 0 | P9: =IF(B9<>"",IF(AND(대학정보!$C$4<>"",대학정보!$C$5<>""),IF(AND(ISNUMBER(FIND(대학정보!$C$4,E9)),ISNUMBER(FIND(대학정보!$C$5,F9))),확률표!$C$3,IF(AND(ISNUMBER(FIND(대학정보!$C$4,G9)),ISNUMBER(FIND(대학정보!$C$5,H9))),확률표!$C$4,IF(AND(ISNUMBER(FIND(대학정보!$C$4,I9)),ISNUMBER(FIND(대학정보!$C$5,J9))),확률표!$C$5, ""))), "대학정보"), "") -> 20 | Q9: =IF(AND(대학정보!$C$8<>"",D9<>""),D9-대학정보!$C$8,"") -> 11.83
A10: =IF(ISNUMBER(FIND("(나)",B10)), "나", IF(B10<>"", "", "X")) | B10: =IF(INDEX(로우데이터!$A:$A,4*ROW()-7)<>"",INDEX(로우데이터!A:A,4*ROW()-7),"") -> 9등 | C10: =IF(B10<>"",VLOOKUP(CONCATENATE("j",L10, M10, N10),확률표!$B$8:$E$16,IF(P10=확률표!$C$3,2,IF(P10=확률표!$C$4, 3,4)),FALSE), "") -> 10 | D10: =IF(B10<>"",INDEX(로우데이터!$B:$B,4*ROW()-7),"") -> 671.17 | E10: =IF(B10<>"",IF(INDEX(로우데이터!$D:$D,4*ROW()-7)<>"",IF(ISNUMBER(FIND("(1)", INDEX(로우데이터!$D:$D,4*ROW()-7))), INDEX(로우데이터!$D:$D,4*ROW()-7), IF(ISNUMBER(FIND("(1)", INDEX(로우데이터!$E:$E,4*ROW()-7))), INDEX(로우데이터!$E:$E,4*ROW()-7), INDEX(로우데이터!$F:$F,4*ROW()-7))), ""), "") -> 고려대(서울)(1) | F10: =IF(B10<>"",IF(INDEX(로우데이터!$D:$D,4*ROW()-7)<>"",IF(ISNUMBER(FIND("(1)", INDEX(로우데이터!$D:$D,4*ROW()-7))), INDEX(로우데이터!$D:$D,4*ROW()-6), IF(ISNUMBER(FIND("(1)", INDEX(로우데이터!$E:$E,4*ROW()-7))), INDEX(로우데이터!$E:$E,4*ROW()-6), INDEX(로우데이터!$F:$F,4*ROW()-6))), ""), "") -> 컴퓨터/자연 | G10: =IF(B10<>"",IF(INDEX(로우데이터!$D:$D,4*ROW()-7)<>"",IF(ISNUMBER(FIND("(2)", INDEX(로우데이터!$D:$D,4*ROW()-7))), INDEX(로우데이터!$D:$D,4*ROW()-7), IF(ISNUMBER(FIND("(2)", INDEX(로우데이터!$E:$E,4*ROW()-7))), INDEX(로우데이터!$E:$E,4*ROW()-7), INDEX(로우데이터!$F:$F,4*ROW()-7))), ""), "") -> 성균관대(2) | H10: =IF(B10<>"",IF(INDEX(로우데이터!$D:$D,4*ROW()-7)<>"",IF(ISNUMBER(FIND("(2)", INDEX(로우데이터!$D:$D,4*ROW()-7))), INDEX(로우데이터!$D:$D,4*ROW()-6), IF(ISNUMBER(FIND("(2)", INDEX(로우데이터!$E:$E,4*ROW()-7))), INDEX(로우데이터!$E:$E,4*ROW()-6), INDEX(로우데이터!$F:$F,4*ROW()-6))), ""), "") -> [수원]반도체시스템공 | I10: =IF(B10<>"",IF(INDEX(로우데이터!$D:$D,4*ROW()-7)<>"",IF(ISNUMBER(FIND("(3)", INDEX(로우데이터!$D:$D,4*ROW()-7))), INDEX(로우데이터!$D:$D,4*ROW()-7), IF(ISNUMBER(FIND("(3)", INDEX(로우데이터!$E:$E,4*ROW()-7))), INDEX(로우데이터!$E:$E,4*ROW()-7), INDEX(로우데이터!$F:$F,4*ROW()-7))), ""), "") -> 중앙대(3) | J10: =IF(B10<>"",IF(INDEX(로우데이터!$D:$D,4*ROW()-7)<>"",IF(ISNUMBER(FIND("(3)", INDEX(로우데이터!$D:$D,4*ROW()-7))), INDEX(로우데이터!$D:$D,4*ROW()-6), IF(ISNUMBER(FIND("(3)", INDEX(로우데이터!$E:$E,4*ROW()-7))), INDEX(로우데이터!$E:$E,4*ROW()-6), INDEX(로우데이터!$F:$F,4*ROW()-6))), ""), "") -> [서울]창의ICT공과대학 | L10: 1 | M10: 1 | N10: 0 | P10: =IF(B10<>"",IF(AND(대학정보!$C$4<>"",대학정보!$C$5<>""),IF(AND(ISNUMBER(FIND(대학정보!$C$4,E10)),ISNUMBER(FIND(대학정보!$C$5,F10))),확률표!$C$3,IF(AND(ISNUMBER(FIND(대학정보!$C$4,G10)),ISNUMBER(FIND(대학정보!$C$5,H10))),확률표!$C$4,IF(AND(ISNUMBER(FIND(대학정보!$C$4,I10)),ISNUMBER(FIND(대학정보!$C$5,J10))),확률표!$C$5, ""))), "대학정보"), "") -> 20 | Q10: =IF(AND(대학정보!$C$8<>"",D10<>""),D10-대학정보!$C$8,"") -> 11.72
A11: =IF(ISNUMBER(FIND("(나)",B11)), "나", IF(B11<>"", "", "X")) | B11: =IF(INDEX(로우데이터!$A:$A,4*ROW()-7)<>"",INDEX(로우데이터!A:A,4*ROW()-7),"") -> 10등 | C11: =IF(B11<>"",VLOOKUP(CONCATENATE("j",L11, M11, N11),확률표!$B$8:$E$16,IF(P11=확률표!$C$3,2,IF(P11=확률표!$C$4, 3,4)),FALSE), "") -> 10 | D11: =IF(B11<>"",INDEX(로우데이터!$B:$B,4*ROW()-7),"") -> 670.96 | E11: =IF(B11<>"",IF(INDEX(로우데이터!$D:$D,4*ROW()-7)<>"",IF(ISNUMBER(FIND("(1)", INDEX(로우데이터!$D:$D,4*ROW()-7))), INDEX(로우데이터!$D:$D,4*ROW()-7), IF(ISNUMBER(FIND("(1)", INDEX(로우데이터!$E:$E,4*ROW()-7))), INDEX(로우데이터!$E:$E,4*ROW()-7), INDEX(로우데이터!$F:$F,4*ROW()-7))), ""), "") -> 연세대(서울)(1) | F11: =IF(B11<>"",IF(INDEX(로우데이터!$D:$D,4*ROW()-7)<>"",IF(ISNUMBER(FIND("(1)", INDEX(로우데이터!$D:$D,4*ROW()-7))), INDEX(로우데이터!$D:$D,4*ROW()-6), IF(ISNUMBER(FIND("(1)", INDEX(로우데이터!$E:$E,4*ROW()-7))), INDEX(로우데이터!$E:$E,4*ROW()-6), INDEX(로우데이터!$F:$F,4*ROW()-6))), ""), "") -> 전기전자공학부 | G11: =IF(B11<>"",IF(INDEX(로우데이터!$D:$D,4*ROW()-7)<>"",IF(ISNUMBER(FIND("(2)", INDEX(로우데이터!$D:$D,4*ROW()-7))), INDEX(로우데이터!$D:$D,4*ROW()-7), IF(ISNUMBER(FIND("(2)", INDEX(로우데이터!$E:$E,4*ROW()-7))), INDEX(로우데이터!$E:$E,4*ROW()-7), INDEX(로우데이터!$F:$F,4*ROW()-7))), ""), "") -> 성균관대(2) | H11: =IF(B11<>"",IF(INDEX(로우데이터!$D:$D,4*ROW()-7)<>"",IF(ISNUMBER(FIND("(2)", INDEX(로우데이터!$D:$D,4*ROW()-7))), INDEX(로우데이터!$D:$D,4*ROW()-6), IF(ISNUMBER(FIND("(2)", INDEX(로우데이터!$E:$E,4*ROW()-7))), INDEX(로우데이터!$E:$E,4*ROW()-6), INDEX(로우데이터!$F:$F,4*ROW()-6))), ""), "") -> [수원]글로벌바이오메디컬공 | I11: =IF(B11<>"",IF(INDEX(로우데이터!$D:$D,4*ROW()-7)<>"",IF(ISNUMBER(FIND("(3)", INDEX(로우데이터!$D:$D,4*ROW()-7))), INDEX(로우데이터!$D:$D,4*ROW()-7), IF(ISNUMBER(FIND("(3)", INDEX(로우데이터!$E:$E,4*ROW()-7))), INDEX(로우데이터!$E:$E,4*ROW()-7), INDEX(로우데이터!$F:$F,4*ROW()-7))), ""), "") -> 중앙대(3) | J11: =IF(B11<>"",IF(INDEX(로우데이터!$D:$D,4*ROW()-7)<>"",IF(ISNUMBER(FIND("(3)", INDEX(로우데이터!$D:$D,4*ROW()-7))), INDEX(로우데이터!$D:$D,4*ROW()-6), IF(ISNUMBER(FIND("(3)", INDEX(로우데이터!$E:$E,4*ROW()-7))), INDEX(로우데이터!$E:$E,4*ROW()-6), INDEX(로우데이터!$F:$F,4*ROW()-6))), ""), "") -> [서울]창의ICT공과대학 | L11: 1 | M11: 1 | N11: 0 | P11: =IF(B11<>"",IF(AND(대학정보!$C$4<>"",대학정보!$C$5<>""),IF(AND(ISNUMBER(FIND(대학정보!$C$4,E11)),ISNUMBER(FIND(대학정보!$C$5,F11))),확률표!$C$3,IF(AND(ISNUMBER(FIND(대학정보!$C$4,G11)),ISNUMBER(FIND(대학정보!$C$5,H11))),확률표!$C$4,IF(AND(ISNUMBER(FIND(대학정보!$C$4,I11)),ISNUMBER(FIND(대학정보!$C$5,J11))),확률표!$C$5, ""))), "대학정보"), "") -> 20 | Q11: =IF(AND(대학정보!$C$8<>"",D11<>""),D11-대학정보!$C$8,"") -> 11.51
A12: =IF(ISNUMBER(FIND("(나)",B12)), "나", IF(B12<>"", "", "X")) | B12: =IF(INDEX(로우데이터!$A:$A,4*ROW()-7)<>"",INDEX(로우데이터!A:A,4*ROW()-7),"") -> 11등 | C12: =IF(B12<>"",VLOOKUP(CONCATENATE("j",L12, M12, N12),확률표!$B$8:$E$16,IF(P12=확률표!$C$3,2,IF(P12=확률표!$C$4, 3,4)),FALSE), "") -> 10 | D12: =IF(B12<>"",INDEX(로우데이터!$B:$B,4*ROW()-7),"") -> 670.94 | E12: =IF(B12<>"",IF(INDEX(로우데이터!$D:$D,4*ROW()-7)<>"",IF(ISNUMBER(FIND("(1)", INDEX(로우데이터!$D:$D,4*ROW()-7))), INDEX(로우데이터!$D:$D,4*ROW()-7), IF(ISNUMBER(FIND("(1)", INDEX(로우데이터!$E:$E,4*ROW()-7))), INDEX(로우데이터!$E:$E,4*ROW()-7), INDEX(로우데이터!$F:$F,4*ROW()-7))), ""), "") -> 고려대(서울)(1) | F12: =IF(B12<>"",IF(INDEX(로우데이터!$D:$D,4*ROW()-7)<>"",IF(ISNUMBER(FIND("(1)", INDEX(로우데이터!$D:$D,4*ROW()-7))), INDEX(로우데이터!$D:$D,4*ROW()-6), IF(ISNUMBER(FIND("(1)", INDEX(로우데이터!$E:$E,4*ROW()-7))), INDEX(로우데이터!$E:$E,4*ROW()-6), INDEX(로우데이터!$F:$F,4*ROW()-6))), ""), "") -> 화공생명공 | G12: =IF(B12<>"",IF(INDEX(로우데이터!$D:$D,4*ROW()-7)<>"",IF(ISNUMBER(FIND("(2)", INDEX(로우데이터!$D:$D,4*ROW()-7))), INDEX(로우데이터!$D:$D,4*ROW()-7), IF(ISNUMBER(FIND("(2)", INDEX(로우데이터!$E:$E,4*ROW()-7))), INDEX(로우데이터!$E:$E,4*ROW()-7), INDEX(로우데이터!$F:$F,4*ROW()-7))), ""), "") -> 한양대(서울)(2) | H12: =IF(B12<>"",IF(INDEX(로우데이터!$D:$D,4*ROW()-7)<>"",IF(ISNUMBER(FIND("(2)", INDEX(로우데이터!$D:$D,4*ROW()-7))), INDEX(로우데이터!$D:$D,4*ROW()-6), IF(ISNUMBER(FIND("(2)", INDEX(로우데이터!$E:$E,4*ROW()-7))), INDEX(로우데이터!$E:$E,4*ROW()-6), INDEX(로우데이터!$F:$F,4*ROW()-6))), ""), "") -> 미래자동차공 | I12: =IF(B12<>"",IF(INDEX(로우데이터!$D:$D,4*ROW()-7)<>"",IF(ISNUMBER(FIND("(3)", INDEX(로우데이터!$D:$D,4*ROW()-7))), INDEX(로우데이터!$D:$D,4*ROW()-7), IF(ISNUMBER(FIND("(3)", INDEX(로우데이터!$E:$E,4*ROW()-7))), INDEX(로우데이터!$E:$E,4*ROW()-7), INDEX(로우데이터!$F:$F,4*ROW()-7))), ""), "") -> 중앙대(3) | J12: =IF(B12<>"",IF(INDEX(로우데이터!$D:$D,4*ROW()-7)<>"",IF(ISNUMBER(FIND("(3)", INDEX(로우데이터!$D:$D,4*ROW()-7))), INDEX(로우데이터!$D:$D,4*ROW()-6), IF(ISNUMBER(FIND("(3)", INDEX(로우데이터!$E:$E,4*ROW()-7))), INDEX(로우데이터!$E:$E,4*ROW()-6), INDEX(로우데이터!$F:$F,4*ROW()-6))), ""), "") -> [서울]창의ICT공과대학 | L12: 1 | M12: 1 | N12: 0 | P12: =IF(B12<>"",IF(AND(대학정보!$C$4<>"",대학정보!$C$5<>""),IF(AND(ISNUMBER(FIND(대학정보!$C$4,E12)),ISNUMBER(FIND(대학정보!$C$5,F12))),확률표!$C$3,IF(AND(ISNUMBER(FIND(대학정보!$C$4,G12)),ISNUMBER(FIND(대학정보!$C$5,H12))),확률표!$C$4,IF(AND(ISNUMBER(FIND(대학정보!$C$4,I12)),ISNUMBER(FIND(대학정보!$C$5,J12))),확률표!$C$5, ""))), "대학정보"), "") -> 20 | Q12: =IF(AND(대학정보!$C$8<>"",D12<>""),D12-대학정보!$C$8,"") -> 11.49
A13: =IF(ISNUMBER(FIND("(나)",B13)), "나", IF(B13<>"", "", "X")) | B13: =IF(INDEX(로우데이터!$A:$A,4*ROW()-7)<>"",INDEX(로우데이터!A:A,4*ROW()-7),"") -> 12등 | C13: =IF(B13<>"",VLOOKUP(CONCATENATE("j",L13, M13, N13),확률표!$B$8:$E$16,IF(P13=확률표!$C$3,2,IF(P13=확률표!$C$4, 3,4)),FALSE), "") -> 10 | D13: =IF(B13<>"",INDEX(로우데이터!$B:$B,4*ROW()-7),"") -> 670.7 | E13: =IF(B13<>"",IF(INDEX(로우데이터!$D:$D,4*ROW()-7)<>"",IF(ISNUMBER(FIND("(1)", INDEX(로우데이터!$D:$D,4*ROW()-7))), INDEX(로우데이터!$D:$D,4*ROW()-7), IF(ISNUMBER(FIND("(1)", INDEX(로우데이터!$E:$E,4*ROW()-7))), INDEX(로우데이터!$E:$E,4*ROW()-7), INDEX(로우데이터!$F:$F,4*ROW()-7))), ""), "") -> 연세대(서울)(1) | F13: =IF(B13<>"",IF(INDEX(로우데이터!$D:$D,4*ROW()-7)<>"",IF(ISNUMBER(FIND("(1)", INDEX(로우데이터!$D:$D,4*ROW()-7))), INDEX(로우데이터!$D:$D,4*ROW()-6), IF(ISNUMBER(FIND("(1)", INDEX(로우데이터!$E:$E,4*ROW()-7))), INDEX(로우데이터!$E:$E,4*ROW()-6), INDEX(로우데이터!$F:$F,4*ROW()-6))), ""), "") -> 기계공학부 | G13: =IF(B13<>"",IF(INDEX(로우데이터!$D:$D,4*ROW()-7)<>"",IF(ISNUMBER(FIND("(2)", INDEX(로우데이터!$D:$D,4*ROW()-7))), INDEX(로우데이터!$D:$D,4*ROW()-7), IF(ISNUMBER(FIND("(2)", INDEX(로우데이터!$E:$E,4*ROW()-7))), INDEX(로우데이터!$E:$E,4*ROW()-7), INDEX(로우데이터!$F:$F,4*ROW()-7))), ""), "") -> 성균관대(2) | H13: =IF(B13<>"",IF(INDEX(로우데이터!$D:$D,4*ROW()-7)<>"",IF(ISNUMBER(FIND("(2)", INDEX(로우데이터!$D:$D,4*ROW()-7))), INDEX(로우데이터!$D:$D,4*ROW()-6), IF(ISNUMBER(FIND("(2)", INDEX(로우데이터!$E:$E,4*ROW()-7))), INDEX(로우데이터!$E:$E,4*ROW()-6), INDEX(로우데이터!$F:$F,4*ROW()-6))), ""), "") -> [수원]반도체시스템공 | I13: =IF(B13<>"",IF(INDEX(로우데이터!$D:$D,4*ROW()-7)<>"",IF(ISNUMBER(FIND("(3)", INDEX(로우데이터!$D:$D,4*ROW()-7))), INDEX(로우데이터!$D:$D,4*ROW()-7), IF(ISNUMBER(FIND("(3)", INDEX(로우데이터!$E:$E,4*ROW()-7))), INDEX(로우데이터!$E:$E,4*ROW()-7), INDEX(로우데이터!$F:$F,4*ROW()-7))), ""), "") -> 중앙대(3) | J13: =IF(B13<>"",IF(INDEX(로우데이터!$D:$D,4*ROW()-7)<>"",IF(ISNUMBER(FIND("(3)", INDEX(로우데이터!$D:$D,4*ROW()-7))), INDEX(로우데이터!$D:$D,4*ROW()-6), IF(ISNUMBER(FIND("(3)", INDEX(로우데이터!$E:$E,4*ROW()-7))), INDEX(로우데이터!$E:$E,4*ROW()-6), INDEX(로우데이터!$F:$F,4*ROW()-6))), ""), "") -> [서울]창의ICT공과대학 | L13: 1 | M13: 1 | N13: 0 | P13: =IF(B13<>"",IF(AND(대학정보!$C$4<>"",대학정보!$C$5<>""),IF(AND(ISNUMBER(FIND(대학정보!$C$4,E13)),ISNUMBER(FIND(대학정보!$C$5,F13))),확률표!$C$3,IF(AND(ISNUMBER(FIND(대학정보!$C$4,G13)),ISNUMBER(FIND(대학정보!$C$5,H13))),확률표!$C$4,IF(AND(ISNUMBER(FIND(대학정보!$C$4,I13)),ISNUMBER(FIND(대학정보!$C$5,J13))),확률표!$C$5, ""))), "대학정보"), "") -> 20 | Q13: =IF(AND(대학정보!$C$8<>"",D13<>""),D13-대학정보!$C$8,"") -> 11.25
... A2021: =IF(ISNUMBER(FIND("(나)",B2021)), "나", IF(B2021<>"", "", "X")) -> X | B2021: =IF(INDEX(로우데이터!$A:$A,4*ROW()-7)<>"",INDEX(로우데이터!A:A,4*ROW()-7),"") | C2021: =IF(B2021<>"",VLOOKUP(CONCATENATE("j",L2021, M2021, N2021),확률표!$B$8:$E$16,IF(P2021=확률표!$C$3,2,IF(P2021=확률표!$C$4, 3,4)),FALSE), "") | D2021: =IF(B2021<>"",INDEX(로우데이터!$B:$B,4*ROW()-7),"") | E2021: =IF(B2021<>"",IF(INDEX(로우데이터!$D:$D,4*ROW()-7)<>"",IF(ISNUMBER(FIND("(1)", INDEX(로우데이터!$D:$D,4*ROW()-7))), INDEX(로우데이터!$D:$D,4*ROW()-7), IF(ISNUMBER(FIND("(1)", INDEX(로우데이터!$E:$E,4*ROW()-7))), INDEX(로우데이터!$E:$E,4*ROW()-7), INDEX(로우데이터!$F:$F,4*ROW()-7))), ""), "") | F2021: =IF(B2021<>"",IF(INDEX(로우데이터!$D:$D,4*ROW()-7)<>"",IF(ISNUMBER(FIND("(1)", INDEX(로우데이터!$D:$D,4*ROW()-7))), INDEX(로우데이터!$D:$D,4*ROW()-6), IF(ISNUMBER(FIND("(1)", INDEX(로우데이터!$E:$E,4*ROW()-7))), INDEX(로우데이터!$E:$E,4*ROW()-6), INDEX(로우데이터!$F:$F,4*ROW()-6))), ""), "") | G2021: =IF(B2021<>"",IF(INDEX(로우데이터!$D:$D,4*ROW()-7)<>"",IF(ISNUMBER(FIND("(2)", INDEX(로우데이터!$D:$D,4*ROW()-7))), INDEX(로우데이터!$D:$D,4*ROW()-7), IF(ISNUMBER(FIND("(2)", INDEX(로우데이터!$E:$E,4*ROW()-7))), INDEX(로우데이터!$E:$E,4*ROW()-7), INDEX(로우데이터!$F:$F,4*ROW()-7))), ""), "") | H2021: =IF(B2021<>"",IF(INDEX(로우데이터!$D:$D,4*ROW()-7)<>"",IF(ISNUMBER(FIND("(2)", INDEX(로우데이터!$D:$D,4*ROW()-7))), INDEX(로우데이터!$D:$D,4*ROW()-6), IF(ISNUMBER(FIND("(2)", INDEX(로우데이터!$E:$E,4*ROW()-7))), INDEX(로우데이터!$E:$E,4*ROW()-6), INDEX(로우데이터!$F:$F,4*ROW()-6))), ""), "") | I2021: =IF(B2021<>"",IF(INDEX(로우데이터!$D:$D,4*ROW()-7)<>"",IF(ISNUMBER(FIND("(3)", INDEX(로우데이터!$D:$D,4*ROW()-7))), INDEX(로우데이터!$D:$D,4*ROW()-7), IF(ISNUMBER(FIND("(3)", INDEX(로우데이터!$E:$E,4*ROW()-7))), INDEX(로우데이터!$E:$E,4*ROW()-7), INDEX(로우데이터!$F:$F,4*ROW()-7))), ""), "") | J2021: =IF(B2021<>"",IF(INDEX(로우데이터!$D:$D,4*ROW()-7)<>"",IF(ISNUMBER(FIND("(3)", INDEX(로우데이터!$D:$D,4*ROW()-7))), INDEX(로우데이터!$D:$D,4*ROW()-6), IF(ISNUMBER(FIND("(3)", INDEX(로우데이터!$E:$E,4*ROW()-7))), INDEX(로우데이터!$E:$E,4*ROW()-6), INDEX(로우데이터!$F:$F,4*ROW()-6))), ""), "") | L2021: 1 | M2021: 1 | N2021: 1 | P2021: =IF(B2021<>"",IF(AND(대학정보!$C$4<>"",대학정보!$C$5<>""),IF(AND(ISNUMBER(FIND(대학정보!$C$4,E2021)),ISNUMBER(FIND(대학정보!$C$5,F2021))),확률표!$C$3,IF(AND(ISNUMBER(FIND(대학정보!$C$4,G2021)),ISNUMBER(FIND(대학정보!$C$5,H2021))),확률표!$C$4,IF(AND(ISNUMBER(FIND(대학정보!$C$4,I2021)),ISNUMBER(FIND(대학정보!$C$5,J2021))),확률표!$C$5, ""))), "대학정보"), "") | Q2021: =IF(AND(대학정보!$C$8<>"",D2021<>""),D2021-대학정보!$C$8,"")

Sheet 확률표
A3: 기본확률표 | B3: 1지망 | C3: 80 | G3: 1,2,3지망 대학에 모두 합격했다고 가정하면, 해당 표본이 대학 정보에 입력한 대학에 등록할 대략적인 확률
B4: 2지망 | C4: 50 | G4: 2지망 50의 의미 : 123 지망 모두 합격이고, 점수 공개 대상 대학이 2지망일 때, 분석 대상 대학에 등록할 확률
B5: 3지망 | C5: 20
A8: 보정확률표 | C8: 1지망 | D8: 2지망 | E8: 3지망 | G8: j101 : 1지망 합격, 2지망 불합격, 3지망 합격
B9: j000 | C9: 10 | D9: 10 | E9: 10
B10: j001 | C10: 20 | D10: 20 | E10: 70 | G10: 보정확률표 해석 방법
B11: j010 | C11: 20 | D11: 70 | E11: 20 | G11: 1) 실제 1, 3지망을 합격할 경우 : j101
B12: j100 | C12: 70 | D12: 20 | E12: 20 | G12: 2) 이때, 점수 공개 대상 대학(대학 정보에 입력한 대학)이 1지망일때
B13: j011 | C13: 10 | D13: 80 | E13: 40 | G13: 3) j101, 1지망의 확률(90)으로 등록할 것이다.
B14: j110 | C14: 80 | D14: 40 | E14: 10
B15: j101 | C15: 80 | D15: 10 | E15: 40 | G15: 1) 실제 2, 3지망을 합격할 경우 : j011
B16: j111 | C16: 80 | D16: 50 | E16: 20 | G16: 2) 이때, 점수 공개 대상 대학(대학 정보에 입력한 대학)이 3지망일때
G17: 3) j011, 3지망의 확률(40)으로 등록할 것이다.
A19: 등록 커트라인 확률 | B19: 50 | G19: 등록 커트라인보다 높은 확률의 표본 개수를 측정해서, 점수 공개 표본 중 몇 등까지 합격일지 예상해봅니다.
G20: ex) 등록 커트라인 50 : 확률이 50 이상인 등록 확률의 표본 개수를 세서, n번째 등수를 계산해줍니다.
A21: 정시 합격 인원 | B21: =대학정보!$C$6 -> 95 | D21: 최초합격
A22: 예상 합격 인원 | B22: =ROUND(대학정보!$C$6*대학정보!$C$9*0.01,0) -> 42 | D22: (점공인원중) | G22: 진학사에 점수를 공개한 표본 중에서, 상위 n등까지 합격 (대학정보-예상범위)
A23: 예상 합격 등수 | B23: {=INDEX(정렬된데이터!B:B, SMALL(IF(정렬된데이터!C:C>=확률표!$B$19, ROW(정렬된데이터!C:C), ""),확률표!$B$22+1),1)} -> 576등 | C23: =IF(OR(B23="", B23="등수"), "계산불가", B23) -> 576등 | G23: 등록 커트라인 확률을 넘긴 표본 중, n번째 예상 합격 등수
A24: 합격 예상 컷 | B24: {=INDEX(정렬된데이터!B:B, SMALL(IF(정렬된데이터!Q:Q<0, ROW(정렬된데이터!Q:Q), ""),1)-1,1)} -> 506등 | C24: =IF(AND(대학정보!$C$8<>""),확률표!B24, "계산불가") -> 506등 | G24: 대학정보 시트에 입력하신 합격 예상 컷에 가장 근접한 등수
